BEGIN:VCALENDAR
VERSION:2.0
PRODID:-// - ECPv6.2.5//NONSGML v1.0//EN
CALSCALE:GREGORIAN
METHOD:PUBLISH
X-ORIGINAL-URL:https://kaiser-wilhelm-koog.de
X-WR-CALDESC:Veranstaltungen für 
REFRESH-INTERVAL;VALUE=DURATION:PT1H
X-Robots-Tag:noindex
X-PUBLISHED-TTL:PT1H
BEGIN:VTIMEZONE
TZID:Europe/Paris
BEGIN:DAYLIGHT
TZOFFSETFROM:+0100
TZOFFSETTO:+0200
TZNAME:CEST
DTSTART:20230326T010000
END:DAYLIGHT
BEGIN:STANDARD
TZOFFSETFROM:+0200
TZOFFSETTO:+0100
TZNAME:CET
DTSTART:20231029T010000
END:STANDARD
END:VTIMEZONE
BEGIN:VEVENT
DTSTART;TZID=Europe/Paris:20230628T190000
DTEND;TZID=Europe/Paris:20230628T203000
DTSTAMP:20260425T123045
CREATED:20230615T175416Z
LAST-MODIFIED:20230615T181606Z
UID:4331-1687978800-1687984200@kaiser-wilhelm-koog.de
SUMMARY:Konstituierende Sitzung der Gemeinde
DESCRIPTION:Alle Bürger und Bürgerinnen sind eingeladen an der konstituierenden Sitzung teilzunehmen. \nDie Gemeindevertreter werden vereidigt\, Ausschüsse und der Bürgermeister gewählt. \nGemeindehaus Sommerdeich 14a \n19Uhr
URL:https://kaiser-wilhelm-koog.de/kalender/konstituierende-sitzung-der-gemeinde/
LOCATION:Gemeindehaus Kaiser-Wilhelm-Koog\, Sommerdeich 14a\, Kaiser-Wilhelm-Koog\, SH\, 25709
END:VEVENT
END:VCALENDAR