BEGIN:VCALENDAR
VERSION:2.0
PRODID:-// - ECPv6.2.5//NONSGML v1.0//EN
CALSCALE:GREGORIAN
METHOD:PUBLISH
X-ORIGINAL-URL:https://kaiser-wilhelm-koog.de
X-WR-CALDESC:Veranstaltungen für 
REFRESH-INTERVAL;VALUE=DURATION:PT1H
X-Robots-Tag:noindex
X-PUBLISHED-TTL:PT1H
BEGIN:VTIMEZONE
TZID:Europe/Paris
BEGIN:DAYLIGHT
TZOFFSETFROM:+0100
TZOFFSETTO:+0200
TZNAME:CEST
DTSTART:20260329T010000
END:DAYLIGHT
BEGIN:STANDARD
TZOFFSETFROM:+0200
TZOFFSETTO:+0100
TZNAME:CET
DTSTART:20261025T010000
END:STANDARD
END:VTIMEZONE
BEGIN:VEVENT
DTSTART;TZID=Europe/Paris:20260605T160000
DTEND;TZID=Europe/Paris:20260607T180000
DTSTAMP:20260425T170752
CREATED:20260228T113205Z
LAST-MODIFIED:20260228T113242Z
UID:5163-1780675200-1780855200@kaiser-wilhelm-koog.de
SUMMARY:Theo’s Blues Circus – Festival 2026
DESCRIPTION:SAVE THE DATE für THEO’s BLUES CIRCUS! \nDas legendäre Sommerfest geht in die 5. Runde! \nFreue Dich auf 15 Bands\, gute Stimmung\, kalte Drinks und ein unvergessliches Wochenende voller Musik und Spaß! \nTermin:  Freitag\, 05. Juni 2026  bis  Sonntag\, 07. Juni 2026 \nOrt:   Süderdamm 1\, 25709 Kaiser-Wilhelm-Koog \nInfos & Kontakt:\nThorsten Schmidt\n0174 – 16 46 917
URL:https://kaiser-wilhelm-koog.de/kalender/theos-blues-circus-festival-2026/
LOCATION:Süderdamm 1\, Süderdamm 1\, Kaiser-Wilhelm-Koog\, 25709\, Germany
ATTACH;FMTTYPE=image/jpeg:https://kaiser-wilhelm-koog.de/wp-content/uploads/2026/02/Theos-Bluescircus-2026.jpeg
END:VEVENT
END:VCALENDAR