BEGIN:VCALENDAR
VERSION:2.0
PRODID:-// - ECPv6.2.5//NONSGML v1.0//EN
CALSCALE:GREGORIAN
METHOD:PUBLISH
X-ORIGINAL-URL:https://kaiser-wilhelm-koog.de
X-WR-CALDESC:Veranstaltungen für 
REFRESH-INTERVAL;VALUE=DURATION:PT1H
X-Robots-Tag:noindex
X-PUBLISHED-TTL:PT1H
BEGIN:VTIMEZONE
TZID:Europe/Paris
BEGIN:DAYLIGHT
TZOFFSETFROM:+0100
TZOFFSETTO:+0200
TZNAME:CEST
DTSTART:20250330T010000
END:DAYLIGHT
BEGIN:STANDARD
TZOFFSETFROM:+0200
TZOFFSETTO:+0100
TZNAME:CET
DTSTART:20251026T010000
END:STANDARD
END:VTIMEZONE
BEGIN:VEVENT
DTSTART;TZID=Europe/Paris:20251212T143000
DTEND;TZID=Europe/Paris:20251212T170000
DTSTAMP:20260425T172549
CREATED:20250504T155258Z
LAST-MODIFIED:20250504T155258Z
UID:5043-1765549800-1765558800@kaiser-wilhelm-koog.de
SUMMARY:Seniorenweihnachtsfeier
DESCRIPTION:Die Gemeinde Kaiser-Wilhelm-Koog lädt unsere Senioren über 65 Jahre und deren Partner herzlich zu der alljährlichen Weihnachtsfeier ein. \nTermin:  Freitag\, 12. Dezember 2025\, um 14:30 Uhr\nOrt:       Uns Landhus in Kronprinzenkoog \nEs wird noch vorab eine gesonderte Einladung an die Gäste versendet.
URL:https://kaiser-wilhelm-koog.de/kalender/seniorenweihnachtsfeier/
LOCATION:Landhus Kronprinzenkoog\, Kirchenstraße 37\, Kronprinzenkoog\, 25709\, Germany
CATEGORIES:Gemeindevertretung
ORGANIZER;CN="Gemeinde Kaiser-Wilhelm-Koog":MAILTO:info@kaiser-wilhelm-koog.de
END:VEVENT
END:VCALENDAR